BEGIN:VCALENDAR
VERSION:2.0
PRODID:-//Zoëland - ECPv6.15.20//NONSGML v1.0//EN
CALSCALE:GREGORIAN
METHOD:PUBLISH
X-ORIGINAL-URL:https://zoeland.se
X-WR-CALDESC:Händelser för Zoëland
REFRESH-INTERVAL;VALUE=DURATION:PT1H
X-Robots-Tag:noindex
X-PUBLISHED-TTL:PT1H
BEGIN:VTIMEZONE
TZID:Europe/Stockholm
BEGIN:DAYLIGHT
TZOFFSETFROM:+0100
TZOFFSETTO:+0200
TZNAME:CEST
DTSTART:20210328T010000
END:DAYLIGHT
BEGIN:STANDARD
TZOFFSETFROM:+0200
TZOFFSETTO:+0100
TZNAME:CET
DTSTART:20211031T010000
END:STANDARD
BEGIN:DAYLIGHT
TZOFFSETFROM:+0100
TZOFFSETTO:+0200
TZNAME:CEST
DTSTART:20220327T010000
END:DAYLIGHT
BEGIN:STANDARD
TZOFFSETFROM:+0200
TZOFFSETTO:+0100
TZNAME:CET
DTSTART:20221030T010000
END:STANDARD
BEGIN:DAYLIGHT
TZOFFSETFROM:+0100
TZOFFSETTO:+0200
TZNAME:CEST
DTSTART:20230326T010000
END:DAYLIGHT
BEGIN:STANDARD
TZOFFSETFROM:+0200
TZOFFSETTO:+0100
TZNAME:CET
DTSTART:20231029T010000
END:STANDARD
END:VTIMEZONE
BEGIN:VEVENT
DTSTART;TZID=Europe/Stockholm:20220605T200000
DTEND;TZID=Europe/Stockholm:20220605T203000
DTSTAMP:20260419T195455
CREATED:20211116T104528Z
LAST-MODIFIED:20211116T104528Z
UID:53803-1654459200-1654461000@zoeland.se
SUMMARY:Gratis Healing med Zoë
DESCRIPTION:Gratis Healing\nFörsta söndagen i varje månad\, ger Zoë Gratis Nordic Light Healing™ kl 20-20.30. \nDu lägger dig bara ner\, öppnar upp och tar emot de starka energierna. \nÖnskar du lägga in din healingönskan\, samt få en påminnelse\, gör du det genom att gå med i  Facebook gruppen >> HÄR! \nDu kan även anmäla dig HÄR.
URL:https://zoeland.se/event/gratis-healing-med-zoe-28/
CATEGORIES:Gratis healing
ATTACH;FMTTYPE=image/jpeg:https://zoeland.se/wp-content/uploads/2016/02/Nordic-Light-healing-fyrkant.jpg
ORGANIZER;CN="Zo%C3%ABland":MAILTO:info@zoeland.se
END:VEVENT
END:VCALENDAR