BEGIN:VCALENDAR
VERSION:2.0
PRODID:-//Zoëland - ECPv6.15.20//NONSGML v1.0//EN
CALSCALE:GREGORIAN
METHOD:PUBLISH
X-ORIGINAL-URL:https://zoeland.se
X-WR-CALDESC:Händelser för Zoëland
REFRESH-INTERVAL;VALUE=DURATION:PT1H
X-Robots-Tag:noindex
X-PUBLISHED-TTL:PT1H
BEGIN:VTIMEZONE
TZID:Europe/Stockholm
BEGIN:DAYLIGHT
TZOFFSETFROM:+0100
TZOFFSETTO:+0200
TZNAME:CEST
DTSTART:20210328T010000
END:DAYLIGHT
BEGIN:STANDARD
TZOFFSETFROM:+0200
TZOFFSETTO:+0100
TZNAME:CET
DTSTART:20211031T010000
END:STANDARD
BEGIN:DAYLIGHT
TZOFFSETFROM:+0100
TZOFFSETTO:+0200
TZNAME:CEST
DTSTART:20220327T010000
END:DAYLIGHT
BEGIN:STANDARD
TZOFFSETFROM:+0200
TZOFFSETTO:+0100
TZNAME:CET
DTSTART:20221030T010000
END:STANDARD
BEGIN:DAYLIGHT
TZOFFSETFROM:+0100
TZOFFSETTO:+0200
TZNAME:CEST
DTSTART:20230326T010000
END:DAYLIGHT
BEGIN:STANDARD
TZOFFSETFROM:+0200
TZOFFSETTO:+0100
TZNAME:CET
DTSTART:20231029T010000
END:STANDARD
END:VTIMEZONE
BEGIN:VEVENT
DTSTART;VALUE=DATE:20220622
DTEND;VALUE=DATE:20220802
DTSTAMP:20260419T180003
CREATED:20220621T151839Z
LAST-MODIFIED:20220621T152000Z
UID:56536-1655856000-1659398399@zoeland.se
SUMMARY:SOMMARREA!
DESCRIPTION:Sommarrea 22 juni – 1 augusti  \n50% rabatt på utvalda produkter! \nRean hittar du här! >> zoeland.se/sommarrea
URL:https://zoeland.se/event/sommarrea/
CATEGORIES:Rea
ATTACH;FMTTYPE=image/jpeg:https://zoeland.se/wp-content/uploads/2022/06/Sommarrea-2019-FB.jpg
ORGANIZER;CN="Zo%C3%ABland":MAILTO:info@zoeland.se
END:VEVENT
END:VCALENDAR