BEGIN:VCALENDAR
VERSION:2.0
PRODID:-//Zoëland - ECPv6.15.20//NONSGML v1.0//EN
CALSCALE:GREGORIAN
METHOD:PUBLISH
X-ORIGINAL-URL:https://zoeland.se
X-WR-CALDESC:Händelser för Zoëland
REFRESH-INTERVAL;VALUE=DURATION:PT1H
X-Robots-Tag:noindex
X-PUBLISHED-TTL:PT1H
BEGIN:VTIMEZONE
TZID:Europe/Stockholm
BEGIN:DAYLIGHT
TZOFFSETFROM:+0100
TZOFFSETTO:+0200
TZNAME:CEST
DTSTART:20210328T010000
END:DAYLIGHT
BEGIN:STANDARD
TZOFFSETFROM:+0200
TZOFFSETTO:+0100
TZNAME:CET
DTSTART:20211031T010000
END:STANDARD
BEGIN:DAYLIGHT
TZOFFSETFROM:+0100
TZOFFSETTO:+0200
TZNAME:CEST
DTSTART:20220327T010000
END:DAYLIGHT
BEGIN:STANDARD
TZOFFSETFROM:+0200
TZOFFSETTO:+0100
TZNAME:CET
DTSTART:20221030T010000
END:STANDARD
BEGIN:DAYLIGHT
TZOFFSETFROM:+0100
TZOFFSETTO:+0200
TZNAME:CEST
DTSTART:20230326T010000
END:DAYLIGHT
BEGIN:STANDARD
TZOFFSETFROM:+0200
TZOFFSETTO:+0100
TZNAME:CET
DTSTART:20231029T010000
END:STANDARD
END:VTIMEZONE
BEGIN:VEVENT
DTSTART;VALUE=DATE:20220622
DTEND;VALUE=DATE:20220802
DTSTAMP:20260419T181007
CREATED:20220621T151839Z
LAST-MODIFIED:20220621T152000Z
UID:56536-1655856000-1659398399@zoeland.se
SUMMARY:SOMMARREA!
DESCRIPTION:Sommarrea 22 juni – 1 augusti  \n50% rabatt på utvalda produkter! \nRean hittar du här! >> zoeland.se/sommarrea
URL:https://zoeland.se/event/sommarrea/
CATEGORIES:Rea
ATTACH;FMTTYPE=image/jpeg:https://zoeland.se/wp-content/uploads/2022/06/Sommarrea-2019-FB.jpg
ORGANIZER;CN="Zo%C3%ABland":MAILTO:info@zoeland.se
END:VEVENT
BEGIN:VEVENT
DTSTART;TZID=Europe/Stockholm:20220714T080000
DTEND;TZID=Europe/Stockholm:20220728T170000
DTSTAMP:20260419T181007
CREATED:20220610T080656Z
LAST-MODIFIED:20220610T080656Z
UID:56458-1657785600-1659027600@zoeland.se
SUMMARY:Sommarledigt
DESCRIPTION:Zoëland tar sommarledigt. Vi är åter på plats den 29 juli. \nÖnskar er alla en riktig härlig semester!
URL:https://zoeland.se/event/sommarledigt-2/
ATTACH;FMTTYPE=image/jpeg:https://zoeland.se/wp-content/uploads/2019/06/woman_in_hammock.jpg
END:VEVENT
BEGIN:VEVENT
DTSTART;TZID=Europe/Stockholm:20220726T203000
DTEND;TZID=Europe/Stockholm:20220726T204500
DTSTAMP:20260419T181007
CREATED:20220114T110626Z
LAST-MODIFIED:20220114T110626Z
UID:54521-1658867400-1658868300@zoeland.se
SUMMARY:Ljuskedjan med Zoë – Light Gatherings
DESCRIPTION:Vi mediterar tillsammans i Ljuskedjan varje tisdag kl: 20.30-20.45 för att höja ljuset och energin för moder jord i denna Uppstigningsprocess. \nKan du inte medverka den tiden så går det bra senare eller tidigare\, din ljusenergi är lika stark ändå! \nVi fokuserar på att dra ner ljuset till jorden och höja frekvensen. \n\nDu kopplar in dig till oss eteriskt i meditation.\nVi samlas i Ljuset och stärker oss själva och jorden.\nBara att sätta dig ner\, andas lugnt\, gå djupt in i hjärtat\, stärk ljuset i hjärtat.\nVi tar varandras händer och stärker oss själva först.\nKänn som om du är en ljuspelare som drar ner ljuset hit till jorden sen skickar du ut ljuset och kärleken till moder jord.\nVi mediterar alltså tillsammans för att höja ljuset och energin för moder jord.\n\n  \nDet finns en Facebook grupp där vi alla möts varje tisdag. Gå med i gruppen här: https://www.facebook.com/groups/LightGatheringsmedZoe/ \nHar du inte Facebook så går det även bra. Du bara kopplar in dig till oss i “etern” varje tisdag kl: 20.30-20.45.
URL:https://zoeland.se/event/ljuskedjan-med-zoe-light-gatherings-122/
LOCATION:Distans\, Där du är
CATEGORIES:Ljuskedjan
ATTACH;FMTTYPE=image/jpeg:https://zoeland.se/wp-content/uploads/2019/07/light_gatherings_fyrkant.jpg
ORGANIZER;CN="Zo%C3%ABland":MAILTO:info@zoeland.se
END:VEVENT
END:VCALENDAR