BEGIN:VCALENDAR
VERSION:2.0
PRODID:-//Zoëland - ECPv6.15.20//NONSGML v1.0//EN
CALSCALE:GREGORIAN
METHOD:PUBLISH
X-ORIGINAL-URL:https://zoeland.se
X-WR-CALDESC:Händelser för Zoëland
REFRESH-INTERVAL;VALUE=DURATION:PT1H
X-Robots-Tag:noindex
X-PUBLISHED-TTL:PT1H
BEGIN:VTIMEZONE
TZID:Europe/Stockholm
BEGIN:DAYLIGHT
TZOFFSETFROM:+0100
TZOFFSETTO:+0200
TZNAME:CEST
DTSTART:20210328T010000
END:DAYLIGHT
BEGIN:STANDARD
TZOFFSETFROM:+0200
TZOFFSETTO:+0100
TZNAME:CET
DTSTART:20211031T010000
END:STANDARD
BEGIN:DAYLIGHT
TZOFFSETFROM:+0100
TZOFFSETTO:+0200
TZNAME:CEST
DTSTART:20220327T010000
END:DAYLIGHT
BEGIN:STANDARD
TZOFFSETFROM:+0200
TZOFFSETTO:+0100
TZNAME:CET
DTSTART:20221030T010000
END:STANDARD
BEGIN:DAYLIGHT
TZOFFSETFROM:+0100
TZOFFSETTO:+0200
TZNAME:CEST
DTSTART:20230326T010000
END:DAYLIGHT
BEGIN:STANDARD
TZOFFSETFROM:+0200
TZOFFSETTO:+0100
TZNAME:CET
DTSTART:20231029T010000
END:STANDARD
END:VTIMEZONE
BEGIN:VEVENT
DTSTART;TZID=Europe/Stockholm:20220605T200000
DTEND;TZID=Europe/Stockholm:20220605T203000
DTSTAMP:20260419T181128
CREATED:20211116T104528Z
LAST-MODIFIED:20211116T104528Z
UID:53803-1654459200-1654461000@zoeland.se
SUMMARY:Gratis Healing med Zoë
DESCRIPTION:Gratis Healing\nFörsta söndagen i varje månad\, ger Zoë Gratis Nordic Light Healing™ kl 20-20.30. \nDu lägger dig bara ner\, öppnar upp och tar emot de starka energierna. \nÖnskar du lägga in din healingönskan\, samt få en påminnelse\, gör du det genom att gå med i  Facebook gruppen >> HÄR! \nDu kan även anmäla dig HÄR.
URL:https://zoeland.se/event/gratis-healing-med-zoe-28/
CATEGORIES:Gratis healing
ATTACH;FMTTYPE=image/jpeg:https://zoeland.se/wp-content/uploads/2016/02/Nordic-Light-healing-fyrkant.jpg
ORGANIZER;CN="Zo%C3%ABland":MAILTO:info@zoeland.se
END:VEVENT
BEGIN:VEVENT
DTSTART;TZID=Europe/Stockholm:20220607T203000
DTEND;TZID=Europe/Stockholm:20220607T204500
DTSTAMP:20260419T181128
CREATED:20211125T094752Z
LAST-MODIFIED:20211125T094752Z
UID:53913-1654633800-1654634700@zoeland.se
SUMMARY:Ljuskedjan med Zoë – Light Gatherings
DESCRIPTION:Vi mediterar tillsammans i Ljuskedjan varje tisdag kl: 20.30-20.45 för att höja ljuset och energin för moder jord i denna Uppstigningsprocess. \nKan du inte medverka den tiden så går det bra senare eller tidigare\, din ljusenergi är lika stark ändå! \nVi fokuserar på att dra ner ljuset till jorden och höja frekvensen. \n\nDu kopplar in dig till oss eteriskt i meditation.\nVi samlas i Ljuset och stärker oss själva och jorden.\nBara att sätta dig ner\, andas lugnt\, gå djupt in i hjärtat\, stärk ljuset i hjärtat.\nVi tar varandras händer och stärker oss själva först.\nKänn som om du är en ljuspelare som drar ner ljuset hit till jorden sen skickar du ut ljuset och kärleken till moder jord.\nVi mediterar alltså tillsammans för att höja ljuset och energin för moder jord.\n\n  \nDet finns en Facebook grupp där vi alla möts varje tisdag. Gå med i gruppen här: https://www.facebook.com/groups/LightGatheringsmedZoe/ \nHar du inte Facebook så går det även bra. Du bara kopplar in dig till oss i “etern” varje tisdag kl: 20.30-20.45.
URL:https://zoeland.se/event/ljuskedjan-med-zoe-light-gatherings-115/
LOCATION:Distans\, Där du är
CATEGORIES:Ljuskedjan
ATTACH;FMTTYPE=image/jpeg:https://zoeland.se/wp-content/uploads/2019/07/light_gatherings_fyrkant.jpg
ORGANIZER;CN="Zo%C3%ABland":MAILTO:info@zoeland.se
END:VEVENT
BEGIN:VEVENT
DTSTART;TZID=Europe/Stockholm:20220614T203000
DTEND;TZID=Europe/Stockholm:20220614T204500
DTSTAMP:20260419T181128
CREATED:20211125T094926Z
LAST-MODIFIED:20211125T094926Z
UID:53915-1655238600-1655239500@zoeland.se
SUMMARY:Ljuskedjan med Zoë – Light Gatherings
DESCRIPTION:i mediterar tillsammans i Ljuskedjan varje tisdag kl: 20.30-20.45 för att höja ljuset och energin för moder jord i denna Uppstigningsprocess. \nKan du inte medverka den tiden så går det bra senare eller tidigare\, din ljusenergi är lika stark ändå! \nVi fokuserar på att dra ner ljuset till jorden och höja frekvensen. \n\nDu kopplar in dig till oss eteriskt i meditation.\nVi samlas i Ljuset och stärker oss själva och jorden.\nBara att sätta dig ner\, andas lugnt\, gå djupt in i hjärtat\, stärk ljuset i hjärtat.\nVi tar varandras händer och stärker oss själva först.\nKänn som om du är en ljuspelare som drar ner ljuset hit till jorden sen skickar du ut ljuset och kärleken till moder jord.\nVi mediterar alltså tillsammans för att höja ljuset och energin för moder jord.\n\n  \nDet finns en Facebook grupp där vi alla möts varje tisdag. Gå med i gruppen här: https://www.facebook.com/groups/LightGatheringsmedZoe/ \nHar du inte Facebook så går det även bra. Du bara kopplar in dig till oss i “etern” varje tisdag kl: 20.30-20.45.
URL:https://zoeland.se/event/ljuskedjan-med-zoe-light-gatherings-116/
LOCATION:Distans\, Där du är
CATEGORIES:Ljuskedjan
ATTACH;FMTTYPE=image/jpeg:https://zoeland.se/wp-content/uploads/2019/07/light_gatherings_fyrkant.jpg
ORGANIZER;CN="Zo%C3%ABland":MAILTO:info@zoeland.se
END:VEVENT
BEGIN:VEVENT
DTSTART;TZID=Europe/Stockholm:20220621T203000
DTEND;TZID=Europe/Stockholm:20220621T204500
DTSTAMP:20260419T181128
CREATED:20211125T095054Z
LAST-MODIFIED:20211125T095054Z
UID:53917-1655843400-1655844300@zoeland.se
SUMMARY:Ljuskedjan med Zoë – Light Gatherings
DESCRIPTION:Vi mediterar tillsammans i Ljuskedjan varje tisdag kl: 20.30-20.45 för att höja ljuset och energin för moder jord i denna Uppstigningsprocess. \nKan du inte medverka den tiden så går det bra senare eller tidigare\, din ljusenergi är lika stark ändå! \nVi fokuserar på att dra ner ljuset till jorden och höja frekvensen. \n\nDu kopplar in dig till oss eteriskt i meditation.\nVi samlas i Ljuset och stärker oss själva och jorden.\nBara att sätta dig ner\, andas lugnt\, gå djupt in i hjärtat\, stärk ljuset i hjärtat.\nVi tar varandras händer och stärker oss själva först.\nKänn som om du är en ljuspelare som drar ner ljuset hit till jorden sen skickar du ut ljuset och kärleken till moder jord.\nVi mediterar alltså tillsammans för att höja ljuset och energin för moder jord.\n\n  \nDet finns en Facebook grupp där vi alla möts varje tisdag. Gå med i gruppen här: https://www.facebook.com/groups/LightGatheringsmedZoe/ \nHar du inte Facebook så går det även bra. Du bara kopplar in dig till oss i “etern” varje tisdag kl: 20.30-20.45.
URL:https://zoeland.se/event/ljuskedjan-med-zoe-light-gatherings-117/
LOCATION:Distans\, Där du är
CATEGORIES:Ljuskedjan
ATTACH;FMTTYPE=image/jpeg:https://zoeland.se/wp-content/uploads/2019/07/light_gatherings_fyrkant.jpg
ORGANIZER;CN="Zo%C3%ABland":MAILTO:info@zoeland.se
END:VEVENT
BEGIN:VEVENT
DTSTART;VALUE=DATE:20220622
DTEND;VALUE=DATE:20220802
DTSTAMP:20260419T181128
CREATED:20220621T151839Z
LAST-MODIFIED:20220621T152000Z
UID:56536-1655856000-1659398399@zoeland.se
SUMMARY:SOMMARREA!
DESCRIPTION:Sommarrea 22 juni – 1 augusti  \n50% rabatt på utvalda produkter! \nRean hittar du här! >> zoeland.se/sommarrea
URL:https://zoeland.se/event/sommarrea/
CATEGORIES:Rea
ATTACH;FMTTYPE=image/jpeg:https://zoeland.se/wp-content/uploads/2022/06/Sommarrea-2019-FB.jpg
ORGANIZER;CN="Zo%C3%ABland":MAILTO:info@zoeland.se
END:VEVENT
BEGIN:VEVENT
DTSTART;TZID=Europe/Stockholm:20220628T203000
DTEND;TZID=Europe/Stockholm:20220628T204500
DTSTAMP:20260419T181128
CREATED:20211125T095319Z
LAST-MODIFIED:20211125T095319Z
UID:53920-1656448200-1656449100@zoeland.se
SUMMARY:Ljuskedjan med Zoë – Light Gatherings
DESCRIPTION:Vi mediterar tillsammans i Ljuskedjan varje tisdag kl: 20.30-20.45 för att höja ljuset och energin för moder jord i denna Uppstigningsprocess. \nKan du inte medverka den tiden så går det bra senare eller tidigare\, din ljusenergi är lika stark ändå! \nVi fokuserar på att dra ner ljuset till jorden och höja frekvensen. \n\nDu kopplar in dig till oss eteriskt i meditation.\nVi samlas i Ljuset och stärker oss själva och jorden.\nBara att sätta dig ner\, andas lugnt\, gå djupt in i hjärtat\, stärk ljuset i hjärtat.\nVi tar varandras händer och stärker oss själva först.\nKänn som om du är en ljuspelare som drar ner ljuset hit till jorden sen skickar du ut ljuset och kärleken till moder jord.\nVi mediterar alltså tillsammans för att höja ljuset och energin för moder jord.\n\n  \nDet finns en Facebook grupp där vi alla möts varje tisdag. Gå med i gruppen här: https://www.facebook.com/groups/LightGatheringsmedZoe/ \nHar du inte Facebook så går det även bra. Du bara kopplar in dig till oss i “etern” varje tisdag kl: 20.30-20.45.
URL:https://zoeland.se/event/ljuskedjan-med-zoe-light-gatherings-118/
LOCATION:Distans\, Där du är
CATEGORIES:Ljuskedjan
ATTACH;FMTTYPE=image/jpeg:https://zoeland.se/wp-content/uploads/2019/07/light_gatherings_fyrkant.jpg
ORGANIZER;CN="Zo%C3%ABland":MAILTO:info@zoeland.se
END:VEVENT
END:VCALENDAR